BEGIN:VCALENDAR
VERSION:2.0
PRODID:-//VolunteerOshawa//CommunityEvents//EN
CALSCALE:GREGORIAN
BEGIN:VEVENT
SUMMARY:Goo Goo Dolls
DTSTAMP:20260422T103117Z
DTSTART:20260401T040000Z
DTEND:20260401T040000Z
LOCATION:Tribute Communities Centre
DESCRIPTION:Goo Goo Dolls is taking place at Tribute Communities Centre in 
 Oshawa on April 1\, 2026. This Other Event event is organized by Tribute Co
 mmunities Centre. For more details\, visit: https://www.tributecommunitiesc
 entre.com/events/detail/goo-goo-dolls-2026
URL:https://volunteeroshawa.ca/events/goo-goo-dolls/
UID:event-57@volunteeroshawa.ca
END:VEVENT
END:VCALENDAR