BEGIN:VCALENDAR
VERSION:2.0
PRODID:-//VolunteerOshawa//CommunityEvents//EN
CALSCALE:GREGORIAN
BEGIN:VEVENT
SUMMARY:Oshawa Firewolves Vs. Calgary Roughnecks
DTSTAMP:20260422T102337Z
DTSTART:20260411T040000Z
DTEND:20260411T040000Z
LOCATION:Tribute Communities Centre
DESCRIPTION:Oshawa Firewolves Vs. Calgary Roughnecks is taking place at Tri
 bute Communities Centre in Oshawa on April 11\, 2026. This Sports and Fitne
 ss event is organized by Tribute Communities Centre. For more details\, vis
 it: https://www.tributecommunitiescentre.com/events/detail/oshawa-firewolve
 s-vs-calgary-roughnecks
URL:https://volunteeroshawa.ca/events/oshawa-firewolves-vs-calgary-roughnec
 ks/
UID:event-61@volunteeroshawa.ca
END:VEVENT
END:VCALENDAR