BEGIN:VCALENDAR
VERSION:2.0
PRODID:-//VolunteerOshawa//CommunityEvents//EN
CALSCALE:GREGORIAN
BEGIN:VEVENT
SUMMARY:Oshawa Generals Vs. Brampton Steelheads
DTSTAMP:20260423T191824Z
DTSTART:20260201T050000Z
DTEND:20260201T050000Z
LOCATION:Tribute Communities Centre
DESCRIPTION:Oshawa Generals Vs. Brampton Steelheads is taking place at Trib
 ute Communities Centre in Oshawa on February 1\, 2026. This Sports and Fitn
 ess event is organized by Tribute Communities Centre. For more details\, vi
 sit: https://www.tributecommunitiescentre.com/events/detail/oshawa-generals
 -vs-brampton-steelheads-1
URL:https://volunteeroshawa.ca/events/oshawa-generals-vs-brampton-steelhead
 s-1/
UID:event-76@volunteeroshawa.ca
END:VEVENT
END:VCALENDAR