BEGIN:VCALENDAR
VERSION:2.0
PRODID:-//VolunteerOshawa//CommunityEvents//EN
CALSCALE:GREGORIAN
BEGIN:VEVENT
SUMMARY:Oshawa Generals Vs. Flint Firebirds
DTSTAMP:20260422T233818Z
DTSTART:20260216T050000Z
DTEND:20260216T050000Z
LOCATION:Tribute Communities Centre
DESCRIPTION:Oshawa Generals Vs. Flint Firebirds is taking place at Tribute 
 Communities Centre in Oshawa on February 16\, 2026. This Sports and Fitness
  event is organized by Tribute Communities Centre. For more details\, visit
 : https://www.tributecommunitiescentre.com/events/detail/oshawa-generals-vs
 -flint-firebirds-8
URL:https://volunteeroshawa.ca/events/oshawa-generals-vs-flint-firebirds/
UID:event-81@volunteeroshawa.ca
END:VEVENT
END:VCALENDAR