BEGIN:VCALENDAR
VERSION:2.0
PRODID:-//VolunteerOshawa//CommunityEvents//EN
CALSCALE:GREGORIAN
BEGIN:VEVENT
SUMMARY:Oshawa Generals Vs. Guelph Storm
DTSTAMP:20260422T142053Z
DTSTART:20260301T050000Z
DTEND:20260301T050000Z
LOCATION:Tribute Communities Centre
DESCRIPTION:Oshawa Generals Vs. Guelph Storm is taking place at Tribute Com
 munities Centre in Oshawa on March 1\, 2026. This Sports and Fitness event 
 is organized by Tribute Communities Centre. For more details\, visit: https
 ://www.tributecommunitiescentre.com/events/detail/oshawa-generals-vs-guelph
 -storm-12
URL:https://volunteeroshawa.ca/events/oshawa-generals-vs-guelph-storm/
UID:event-72@volunteeroshawa.ca
END:VEVENT
END:VCALENDAR