BEGIN:VCALENDAR
VERSION:2.0
PRODID:-//VolunteerOshawa//CommunityEvents//EN
CALSCALE:GREGORIAN
BEGIN:VEVENT
SUMMARY:Oshawa Generals Vs. London Knights
DTSTAMP:20260423T134048Z
DTSTART:20260104T050000Z
DTEND:20260104T050000Z
LOCATION:Tribute Communities Centre
DESCRIPTION:Oshawa Generals Vs. London Knights is taking place at Tribute C
 ommunities Centre in Oshawa on January 4\, 2026. This Sports and Fitness ev
 ent is organized by Tribute Communities Centre. For more details\, visit: h
 ttps://www.tributecommunitiescentre.com/events/detail/oshawa-generals-vs-lo
 ndon-knights-11
URL:https://volunteeroshawa.ca/events/oshawa-generals-vs-london-knights/
UID:event-80@volunteeroshawa.ca
END:VEVENT
END:VCALENDAR