BEGIN:VCALENDAR
VERSION:2.0
PRODID:-//VolunteerOshawa//CommunityEvents//EN
CALSCALE:GREGORIAN
BEGIN:VEVENT
SUMMARY:Oshawa Generals Vs. Niagara Icedogs
DTSTAMP:20260422T141738Z
DTSTART:20260130T050000Z
DTEND:20260130T050000Z
LOCATION:Tribute Communities Centre
DESCRIPTION:Oshawa Generals Vs. Niagara Icedogs is taking place at Tribute 
 Communities Centre in Oshawa on January 30\, 2026. This Sports and Fitness 
 event is organized by Tribute Communities Centre. For more details\, visit:
  https://www.tributecommunitiescentre.com/events/detail/oshawa-generals-vs-
 niagara-icedogs-16
URL:https://volunteeroshawa.ca/events/oshawa-generals-vs-niagara-icedogs/
UID:event-71@volunteeroshawa.ca
END:VEVENT
END:VCALENDAR