BEGIN:VCALENDAR
VERSION:2.0
PRODID:-//VolunteerOshawa//CommunityEvents//EN
CALSCALE:GREGORIAN
BEGIN:VEVENT
SUMMARY:Oshawa Stampede
DTSTAMP:20260422T091242Z
DTSTART:20260523T040000Z
DTEND:20260523T040000Z
LOCATION:Tribute Communities Centre
DESCRIPTION:Oshawa Stampede is taking place at Tribute Communities Centre i
 n Oshawa on May 23\, 2026. This Other Event event is organized by Tribute C
 ommunities Centre. For more details\, visit: https://www.tributecommunities
 centre.com/events/detail/oshawa-stampede-2026
URL:https://volunteeroshawa.ca/events/oshawa-stampede/
UID:event-82@volunteeroshawa.ca
END:VEVENT
END:VCALENDAR