BEGIN:VCALENDAR
VERSION:2.0
PRODID:-//VolunteerOshawa//CommunityEvents//EN
CALSCALE:GREGORIAN
BEGIN:VEVENT
SUMMARY:Big Air All-Stars Live
DTSTAMP:20260423T084343Z
DTSTART:20260207T050000Z
DTEND:20260207T050000Z
LOCATION:Tribute Communities Centre
DESCRIPTION:Big Air All-Stars Live is taking place at Tribute Communities C
 entre in Oshawa on February 7\, 2026. This Other Event event is organized b
 y Tribute Communities Centre. For more details\, visit: https://www.tribute
 communitiescentre.com/events/detail/big-air-all-stars-live-2026
URL:https://volunteeroshawa.ca/fr/evenements/big-air-all-stars-live/
UID:event-63@volunteeroshawa.ca
END:VEVENT
END:VCALENDAR