BEGIN:VCALENDAR
VERSION:2.0
PRODID:-//VolunteerOshawa//CommunityEvents//EN
CALSCALE:GREGORIAN
BEGIN:VEVENT
SUMMARY:Harlem Globetrotters
DTSTAMP:20260422T203912Z
DTSTART:20260131T050000Z
DTEND:20260131T050000Z
LOCATION:Tribute Communities Centre
DESCRIPTION:Harlem Globetrotters is taking place at Tribute Communities Cen
 tre in Oshawa on January 31\, 2026. This Arts and Entertainment event is or
 ganized by Tribute Communities Centre. For more details\, visit: https://ww
 w.tributecommunitiescentre.com/events/detail/harlem-globetrotters-2026
URL:https://volunteeroshawa.ca/fr/evenements/harlem-globetrotters/
UID:event-83@volunteeroshawa.ca
END:VEVENT
END:VCALENDAR