BEGIN:VCALENDAR
VERSION:2.0
PRODID:-//VolunteerOshawa//CommunityEvents//EN
CALSCALE:GREGORIAN
BEGIN:VEVENT
SUMMARY:Lee Brice
DTSTAMP:20260422T114639Z
DTSTART:20260424T040000Z
DTEND:20260424T040000Z
LOCATION:Tribute Communities Centre
DESCRIPTION:Lee Brice is taking place at Tribute Communities Centre in Osha
 wa on April 24\, 2026. This Other Event event is organized by Tribute Commu
 nities Centre. For more details\, visit: https://www.tributecommunitiescent
 re.com/events/detail/lee-brice-2026
URL:https://volunteeroshawa.ca/fr/evenements/lee-brice/
UID:event-69@volunteeroshawa.ca
END:VEVENT
END:VCALENDAR