BEGIN:VCALENDAR
VERSION:2.0
PRODID:-//VolunteerOshawa//CommunityEvents//EN
CALSCALE:GREGORIAN
BEGIN:VEVENT
SUMMARY:+Live+
DTSTAMP:20260423T073048Z
DTSTART:20260309T040000Z
DTEND:20260309T040000Z
LOCATION:Tribute Communities Centre
DESCRIPTION:+Live+ is taking place at Tribute Communities Centre in Oshawa 
 on March 9\, 2026. This Other Event event is organized by Tribute Communiti
 es Centre. For more details\, visit: https://www.tributecommunitiescentre.c
 om/events/detail/live
URL:https://volunteeroshawa.ca/fr/evenements/live/
UID:event-54@volunteeroshawa.ca
END:VEVENT
END:VCALENDAR