BEGIN:VCALENDAR
VERSION:2.0
PRODID:-//VolunteerOshawa//CommunityEvents//EN
CALSCALE:GREGORIAN
BEGIN:VEVENT
SUMMARY:Oshawa Firewolves Vs. Buffalo Bandits
DTSTAMP:20260422T233916Z
DTSTART:20260418T040000Z
DTEND:20260418T040000Z
LOCATION:Tribute Communities Centre
DESCRIPTION:Oshawa Firewolves Vs. Buffalo Bandits is taking place at Tribut
 e Communities Centre in Oshawa on April 18\, 2026. This Sports and Fitness 
 event is organized by Tribute Communities Centre. For more details\, visit:
  https://www.tributecommunitiescentre.com/events/detail/oshawa-firewolves-v
 s-buffalo-bandits
URL:https://volunteeroshawa.ca/fr/evenements/oshawa-firewolves-vs-buffalo-b
 andits/
UID:event-64@volunteeroshawa.ca
END:VEVENT
END:VCALENDAR