BEGIN:VCALENDAR
VERSION:2.0
PRODID:-//VolunteerOshawa//CommunityEvents//EN
CALSCALE:GREGORIAN
BEGIN:VEVENT
SUMMARY:Oshawa Firewolves Vs. Philadelphia Wings
DTSTAMP:20260422T104907Z
DTSTART:20260313T040000Z
DTEND:20260313T040000Z
LOCATION:Tribute Communities Centre
DESCRIPTION:Oshawa Firewolves Vs. Philadelphia Wings is taking place at Tri
 bute Communities Centre in Oshawa on March 13\, 2026. This Sports and Fitne
 ss event is organized by Tribute Communities Centre. For more details\, vis
 it: https://www.tributecommunitiescentre.com/events/detail/oshawa-firewolve
 s-vs-philadelphia-wings
URL:https://volunteeroshawa.ca/fr/evenements/oshawa-firewolves-vs-philadelp
 hia-wings/
UID:event-56@volunteeroshawa.ca
END:VEVENT
END:VCALENDAR