BEGIN:VCALENDAR
VERSION:2.0
PRODID:-//VolunteerOshawa//CommunityEvents//EN
CALSCALE:GREGORIAN
BEGIN:VEVENT
SUMMARY:Oshawa Firewolves Vs. Rochester Knighthawks
DTSTAMP:20260422T102635Z
DTSTART:20260328T040000Z
DTEND:20260328T040000Z
LOCATION:Tribute Communities Centre
DESCRIPTION:Oshawa Firewolves Vs. Rochester Knighthawks is taking place at 
 Tribute Communities Centre in Oshawa on March 28\, 2026. This Sports and Fi
 tness event is organized by Tribute Communities Centre. For more details\, 
 visit: https://www.tributecommunitiescentre.com/events/detail/oshawa-firewo
 lves-vs-rochester-knighthawks
URL:https://volunteeroshawa.ca/fr/evenements/oshawa-firewolves-vs-rochester
 -knighthawks/
UID:event-78@volunteeroshawa.ca
END:VEVENT
END:VCALENDAR