BEGIN:VCALENDAR
VERSION:2.0
PRODID:-//VolunteerOshawa//CommunityEvents//EN
CALSCALE:GREGORIAN
BEGIN:VEVENT
SUMMARY:Oshawa Generals Vs. Barrie Colts
DTSTAMP:20260422T090954Z
DTSTART:20260315T040000Z
DTEND:20260315T040000Z
LOCATION:Tribute Communities Centre
DESCRIPTION:Oshawa Generals Vs. Barrie Colts is taking place at Tribute Com
 munities Centre in Oshawa on March 15\, 2026. This Sports and Fitness event
  is organized by Tribute Communities Centre. For more details\, visit: http
 s://www.tributecommunitiescentre.com/events/detail/oshawa-generals-vs-barri
 e-colts-27
URL:https://volunteeroshawa.ca/fr/evenements/oshawa-generals-vs-barrie-colt
 s-1/
UID:event-67@volunteeroshawa.ca
END:VEVENT
END:VCALENDAR