BEGIN:VCALENDAR
VERSION:2.0
PRODID:-//VolunteerOshawa//CommunityEvents//EN
CALSCALE:GREGORIAN
BEGIN:VEVENT
SUMMARY:Oshawa Generals Vs. Ottawa 67'S
DTSTAMP:20260422T234117Z
DTSTART:20260101T050000Z
DTEND:20260101T050000Z
LOCATION:Tribute Communities Centre
DESCRIPTION:Oshawa Generals Vs. Ottawa 67'S is taking place at Tribute Comm
 unities Centre in Oshawa on January 1\, 2026. This Sports and Fitness event
  is organized by Tribute Communities Centre. For more details\, visit: http
 s://www.tributecommunitiescentre.com/events/detail/oshawa-generals-vs-ottaw
 a-67s-52
URL:https://volunteeroshawa.ca/fr/evenements/oshawa-generals-vs-ottawa-67s-
 2/
UID:event-60@volunteeroshawa.ca
END:VEVENT
END:VCALENDAR