BEGIN:VCALENDAR
VERSION:2.0
PRODID:-//VolunteerOshawa//CommunityEvents//EN
CALSCALE:GREGORIAN
BEGIN:VEVENT
SUMMARY:Oshawa Generals Vs. Ottawa 67'S
DTSTAMP:20260422T114953Z
DTSTART:20260320T040000Z
DTEND:20260320T040000Z
LOCATION:Tribute Communities Centre
DESCRIPTION:Oshawa Generals Vs. Ottawa 67'S is taking place at Tribute Comm
 unities Centre in Oshawa on March 20\, 2026. This Sports and Fitness event 
 is organized by Tribute Communities Centre. For more details\, visit: https
 ://www.tributecommunitiescentre.com/events/detail/oshawa-generals-vs-ottawa
 -67s-53
URL:https://volunteeroshawa.ca/fr/evenements/oshawa-generals-vs-ottawa-67s/
UID:event-47@volunteeroshawa.ca
END:VEVENT
END:VCALENDAR