BEGIN:VCALENDAR
VERSION:2.0
PRODID:-//VolunteerOshawa//CommunityEvents//EN
CALSCALE:GREGORIAN
BEGIN:VEVENT
SUMMARY:Oshawa Generals Vs. Peterborough Petes
DTSTAMP:20260423T011459Z
DTSTART:20260213T050000Z
DTEND:20260213T050000Z
LOCATION:Tribute Communities Centre
DESCRIPTION:Oshawa Generals Vs. Peterborough Petes is taking place at Tribu
 te Communities Centre in Oshawa on February 13\, 2026. This Sports and Fitn
 ess event is organized by Tribute Communities Centre. For more details\, vi
 sit: https://www.tributecommunitiescentre.com/events/detail/oshawa-generals
 -vs-peterborough-petes-51
URL:https://volunteeroshawa.ca/fr/evenements/oshawa-generals-vs-peterboroug
 h-petes/
UID:event-49@volunteeroshawa.ca
END:VEVENT
END:VCALENDAR