BEGIN:VCALENDAR
VERSION:2.0
PRODID:-//VolunteerOshawa//CommunityEvents//EN
CALSCALE:GREGORIAN
BEGIN:VEVENT
SUMMARY:Oshawa Generals Vs. Sarnia Sting
DTSTAMP:20260423T180044Z
DTSTART:20260206T050000Z
DTEND:20260206T050000Z
LOCATION:Tribute Communities Centre
DESCRIPTION:Oshawa Generals Vs. Sarnia Sting is taking place at Tribute Com
 munities Centre in Oshawa on February 6\, 2026. This Sports and Fitness eve
 nt is organized by Tribute Communities Centre. For more details\, visit: ht
 tps://www.tributecommunitiescentre.com/events/detail/oshawa-generals-vs-sar
 nia-sting-11
URL:https://volunteeroshawa.ca/fr/evenements/oshawa-generals-vs-sarnia-stin
 g/
UID:event-48@volunteeroshawa.ca
END:VEVENT
END:VCALENDAR