BEGIN:VCALENDAR
VERSION:2.0
PRODID:-//VolunteerOshawa//CommunityEvents//EN
CALSCALE:GREGORIAN
BEGIN:VEVENT
SUMMARY:Oshawa Generals Vs. Sudbury Wolves
DTSTAMP:20260423T174841Z
DTSTART:20260208T050000Z
DTEND:20260208T050000Z
LOCATION:Tribute Communities Centre
DESCRIPTION:Oshawa Generals Vs. Sudbury Wolves is taking place at Tribute C
 ommunities Centre in Oshawa on February 8\, 2026. This Sports and Fitness e
 vent is organized by Tribute Communities Centre. For more details\, visit: 
 https://www.tributecommunitiescentre.com/events/detail/oshawa-generals-vs-s
 udbury-wolves-24
URL:https://volunteeroshawa.ca/fr/evenements/oshawa-generals-vs-sudbury-wol
 ves/
UID:event-59@volunteeroshawa.ca
END:VEVENT
END:VCALENDAR