BEGIN:VCALENDAR
VERSION:2.0
PRODID:-//VolunteerOshawa//CommunityEvents//EN
CALSCALE:GREGORIAN
BEGIN:VEVENT
SUMMARY:The Rock Orchestra By Candlelight
DTSTAMP:20260422T161424Z
DTSTART:20260319T040000Z
DTEND:20260319T040000Z
LOCATION:Tribute Communities Centre
DESCRIPTION:The Rock Orchestra By Candlelight is taking place at Tribute Co
 mmunities Centre in Oshawa on March 19\, 2026. This Arts and Entertainment 
 event is organized by Tribute Communities Centre. For more details\, visit:
  https://www.tributecommunitiescentre.com/events/detail/the-rock-orchestra-
 by-candlelight
URL:https://volunteeroshawa.ca/fr/evenements/the-rock-orchestra-by-candleli
 ght/
UID:event-73@volunteeroshawa.ca
END:VEVENT
END:VCALENDAR