BEGIN:VCALENDAR
VERSION:2.0
PRODID:-//VolunteerOshawa//CommunityEvents//EN
CALSCALE:GREGORIAN
BEGIN:VEVENT
SUMMARY:Three Days Grace
DTSTAMP:20260422T160810Z
DTSTART:20260504T040000Z
DTEND:20260504T040000Z
LOCATION:Tribute Communities Centre
DESCRIPTION:Three Days Grace is taking place at Tribute Communities Centre 
 in Oshawa on May 4\, 2026. This Other Event event is organized by Tribute C
 ommunities Centre. For more details\, visit: https://www.tributecommunities
 centre.com/events/detail/three-days-grace-2026
URL:https://volunteeroshawa.ca/fr/evenements/three-days-grace/
UID:event-66@volunteeroshawa.ca
END:VEVENT
END:VCALENDAR